BEGIN:VCALENDAR
VERSION:2.0
METHOD:PUBLISH
PRODID:-//Agenda.ad//NONSGML v1.0//EN
BEGIN:VEVENT
CLASS:PUBLIC
UID:7da6cf4db524cc60dc1633451180b011@agenda.ad
DTSTAMP:20260424T095348Z
DTSTART:20191213T230000Z
DTEND:20191213T230000Z
SUMMARY:<span>Classe magistral</span><em>&nbsp;</em><span>d'edici&oacute; de v&iacute;deos amb Final Cut Pro X</span>
DESCRIPTION:\n\nMés informació\nhttps://www.agenda.ad/activitat/andorr
 a-la-vella/cursos-i-tallers/classe-magistral d-edicio-de-vi
 deos-amb-final-cut-pro-x\n\n\nOrganitza\nFestival Ull Nu
LOCATION:FNAC Andorra
SEQUENCE:0
TRANSP:OPAQUE
X-ALT-DESC;FMTTYPE=text/html:<!DOCTYPE HTML PUBLIC "-//W3C//DTD HTML 3.2//EN"><HTML><HEAD
 ><TITLE></TITLE></HEAD><BODY><FONT FACE="Arial" SIZE=2><br/>
 <br/><b>Més informació</b><br/><a href="https://www.agenda
 .ad/activitat/andorra-la-vella/cursos-i-tallers/classe-magis
 tral d-edicio-de-videos-amb-final-cut-pro-x">https://www.ag
 enda.ad/activitat/andorra-la-vella/cursos-i-tallers/classe-m
 agistral d-edicio-de-videos-amb-final-cut-pro-x</a><br/><br
 /><br/><b>Organitza</b><br/>Festival Ull Nu</FONT></BODY></H
 TML>
END:VEVENT
END:VCALENDAR